BEGIN:VCALENDAR
VERSION:2.0
PRODID:-//Eco Alianza de Loreto | Loreto, B.C.S. - ECPv6.15.18//NONSGML v1.0//EN
CALSCALE:GREGORIAN
METHOD:PUBLISH
X-WR-CALNAME:Eco Alianza de Loreto | Loreto, B.C.S.
X-ORIGINAL-URL:https://espanol.ecoalianzaloreto.org
X-WR-CALDESC:Events for Eco Alianza de Loreto | Loreto, B.C.S.
REFRESH-INTERVAL;VALUE=DURATION:PT1H
X-Robots-Tag:noindex
X-PUBLISHED-TTL:PT1H
BEGIN:VTIMEZONE
TZID:UTC
BEGIN:STANDARD
TZOFFSETFROM:+0000
TZOFFSETTO:+0000
TZNAME:UTC
DTSTART:20190101T000000
END:STANDARD
END:VTIMEZONE
BEGIN:VEVENT
DTSTART;TZID=UTC:20200227T173000
DTEND;TZID=UTC:20200227T183000
DTSTAMP:20260424T034609
CREATED:20200220T054851Z
LAST-MODIFIED:20200220T054851Z
UID:15774-1582824600-1582828200@espanol.ecoalianzaloreto.org
SUMMARY:Visiting Scientist Presentation
DESCRIPTION:Mangrove Roots Photo courtesy of Richard Jackson/Richard Jackson Photography \nLater this month we will continue Eco-Alianza’s Visiting Scientist series with a very special guest\, David Borbón\, a commercial fisherman from the community of El Delgadito\, located on the Mexican Pacific coast within the Biosphere Reserve of El Vizcaíno. For more than eight years he undertook the challenge of recovering the red mangrove (Rhizophora mangle)\, and successfully achieved the reforestation of a large area in his community. His free presentation will take place February 27 at 5:30 p.m. at Eco-Alianza’s CenCoMA headquarters in downtown Loreto. Come learn more from David about the importance of preserving mangroves and our wetlands as a continuing celebration of International Wetlands Day. \n 
URL:https://espanol.ecoalianzaloreto.org/evento/visiting-scientist-presentation/
LOCATION:CenCoMA Loreto\, Av. Miguel Hidalgo\, Centro\, 23880\, Loreto\, B.C.S.\, Mexico
CATEGORIES:Eventos
ATTACH;FMTTYPE=image/jpeg:https://espanol.ecoalianzaloreto.org/wp-content/uploads/2020/01/scientist-mangroves-v2-web.jpg
END:VEVENT
END:VCALENDAR