BEGIN:VCALENDAR
VERSION:2.0
PRODID:-//Eco Alianza de Loreto | Loreto, B.C.S. - ECPv6.15.18//NONSGML v1.0//EN
CALSCALE:GREGORIAN
METHOD:PUBLISH
X-WR-CALNAME:Eco Alianza de Loreto | Loreto, B.C.S.
X-ORIGINAL-URL:https://espanol.ecoalianzaloreto.org
X-WR-CALDESC:Events for Eco Alianza de Loreto | Loreto, B.C.S.
REFRESH-INTERVAL;VALUE=DURATION:PT1H
X-Robots-Tag:noindex
X-PUBLISHED-TTL:PT1H
BEGIN:VTIMEZONE
TZID:UTC
BEGIN:STANDARD
TZOFFSETFROM:+0000
TZOFFSETTO:+0000
TZNAME:UTC
DTSTART:20180101T000000
END:STANDARD
END:VTIMEZONE
BEGIN:VEVENT
DTSTART;TZID=UTC:20191116T180000
DTEND;TZID=UTC:20191116T180000
DTSTAMP:20260424T085319
CREATED:20191008T003127Z
LAST-MODIFIED:20191008T005901Z
UID:15152-1573927200-1573927200@espanol.ecoalianzaloreto.org
SUMMARY:Eco-Alianza´s 12th Anniversary Gala and Fundraiser
DESCRIPTION:Join us for Eco-Alianza’s 12th anniversary Gala November 16\, 2019\nDATE & TIME \nSaturday\, November 16\, 2019 \n6:00 pm to 12:00 am \nLa Mision Hotel\, Loreto BCS \nWith marble floors perfect for dancing\, the venue is ideal for celebrating the conservation ethic we all share – while gazing out now and then at the magnificent ocean and mountain habitats that we strive to protect. \n\nOf course you’ll enjoy the excellent food and service the hotel is known for\, while silent and live auctions tempt you and other supporters with trips\, unique experiences\, and the knowledge that it’s all for a great cause.\n\nAll of us at Eco-Alianza are grateful for the continued support of La Mision!\nClick here to order tickets.
URL:https://espanol.ecoalianzaloreto.org/evento/eco-alianzas-12th-anniversary-gala-and-fundraiser/
LOCATION:Hotel La Misión de Loreto\, S/N Calle Rosendo Robles\, Loreto\, B.C.S\, 23880\, Mexico
CATEGORIES:Anniversary Celebration,Eventos
ATTACH;FMTTYPE=image/jpeg:https://espanol.ecoalianzaloreto.org/wp-content/uploads/2019/10/SAVE-THE-DATE-copia.jpg
END:VEVENT
END:VCALENDAR