BEGIN:VCALENDAR
VERSION:2.0
PRODID:-//Eco Alianza de Loreto | Loreto, B.C.S. - ECPv6.15.18//NONSGML v1.0//EN
CALSCALE:GREGORIAN
METHOD:PUBLISH
X-WR-CALNAME:Eco Alianza de Loreto | Loreto, B.C.S.
X-ORIGINAL-URL:https://espanol.ecoalianzaloreto.org
X-WR-CALDESC:Events for Eco Alianza de Loreto | Loreto, B.C.S.
REFRESH-INTERVAL;VALUE=DURATION:PT1H
X-Robots-Tag:noindex
X-PUBLISHED-TTL:PT1H
BEGIN:VTIMEZONE
TZID:UTC
BEGIN:STANDARD
TZOFFSETFROM:+0000
TZOFFSETTO:+0000
TZNAME:UTC
DTSTART:20170101T000000
END:STANDARD
END:VTIMEZONE
BEGIN:VEVENT
DTSTART;TZID=UTC:20180707T170000
DTEND;TZID=UTC:20180707T190000
DTSTAMP:20260425T102808
CREATED:20180701T041909Z
LAST-MODIFIED:20180701T050050Z
UID:13968-1530982800-1530990000@espanol.ecoalianzaloreto.org
SUMMARY:Dr. Wallace J. Nichols to Speak His Blue Mind at Eco-Alianza
DESCRIPTION:Next up in Eco-Alianza’s Visiting Scientist series is best-selling author Wallace J. Nichols\, speaking about “Blue Mind” on Saturday\, July 7 from 5 to 7 p.m. at our CenCoMA headquarters on Calle Hidalgo. Dr. Nichols is a marine biologist\, activist\, community organizer\, and author who works to inspire a deeper connection with nature. \nBlue Mind combines cutting-edge research with compelling personal stories about the remarkable benefits of being in\, on\, under\, or simply near water. Dr. Nichols will discuss how proximity to water can improve performance\, increase calm\, diminish anxiety\, and increase professional success. Blue Mind not only illustrates the crucial importance of our connection to water\, it provides a practical blueprint for a better life. \n \nDr. Nichols has been called “Keeper of the Sea” by GQ Magazine and “a visionary” by Outside Magazine. Formerly a Senior Scientist at Ocean Conservancy\, Dr. Nichols has authored more than 200 scientific papers\, and publications. He has also lectured in more than 30 countries and will present at Eco-Alianza in Spanish. J. is bilingual\, so the presentation will be followed by questions and answers in both Spanish and English. \nThe presentation is free and open to the public. For more information\, visit wallacejnichols.org .
URL:https://espanol.ecoalianzaloreto.org/evento/dr-wallace-j-nichols-to-speak-his-blue-mind-at-eco-alianza/
LOCATION:CenCoMA Loreto\, Av. Miguel Hidalgo\, Centro\, 23880\, Loreto\, B.C.S.\, Mexico
CATEGORIES:Eventos
ATTACH;FMTTYPE=image/jpeg:https://espanol.ecoalianzaloreto.org/wp-content/uploads/2018/06/Nichols_BlueMind_PB_cover.jpg
END:VEVENT
END:VCALENDAR