BEGIN:VCALENDAR
VERSION:2.0
PRODID:-//Eco Alianza de Loreto | Loreto, B.C.S. - ECPv6.15.18//NONSGML v1.0//EN
CALSCALE:GREGORIAN
METHOD:PUBLISH
X-WR-CALNAME:Eco Alianza de Loreto | Loreto, B.C.S.
X-ORIGINAL-URL:https://espanol.ecoalianzaloreto.org
X-WR-CALDESC:Events for Eco Alianza de Loreto | Loreto, B.C.S.
REFRESH-INTERVAL;VALUE=DURATION:PT1H
X-Robots-Tag:noindex
X-PUBLISHED-TTL:PT1H
BEGIN:VTIMEZONE
TZID:UTC
BEGIN:STANDARD
TZOFFSETFROM:+0000
TZOFFSETTO:+0000
TZNAME:UTC
DTSTART:20170101T000000
END:STANDARD
END:VTIMEZONE
BEGIN:VEVENT
DTSTART;VALUE=DATE:20180323
DTEND;VALUE=DATE:20180325
DTSTAMP:20260425T163200
CREATED:20180318T054708Z
LAST-MODIFIED:20190301T042216Z
UID:13844-1521763200-1521935999@espanol.ecoalianzaloreto.org
SUMMARY:One Ocean Film Festival
DESCRIPTION:Description\nFour films – two magical nights under the stars! Join us for Eco-Alianza’s first annual “One Ocean Film Festival” – a two-evening event that explores the miracles of the ocean that we all share. Come for one or come for both! \nThis year’s festival offers four captivating feature films shot almost entirely in the Gulf of California and the Baja Peninsula and are perfect for both English and Spanish speakers. The images in these films communicate the message: we share these waters with some of the most amazing creatures on the planet. \nPresenting the films will be award-winning cinematographers\, directors\, and conservationists who will discuss their work. Eco-Alianza staff will be available before and after the films to answer questions about conservation projects in which they are involved. \nFree popcorn is included with your admission. Wine\, soft drinks\, and appetizers will be available for purchase. Seating is limited\, so buy your tickets now online or in the Eco-Alianza lobby. \nDoors open at 6:45 pm\, so plan to arrive early to get your favorite seats. Lights go out and our program begins promptly at 7:35. Plan to be seated by 7:30. \nThe “One Ocean Film Festival” is a partnership between Eco-Alianza and the Parque Nacional Bahía de Loreto and UABCS. \n  \n \n Friday\, March 23\n\n\nOcean Oasis\, in Spanish\, with English subtitles (40 minutes)\nINTERMISSION (15 minutes)\nShadows in a Desert Sea\, in English (52 minutes)\n\n\nSpecial Guest Presenter: Emmy-award winning cinematographer Johnny Friday\nSpecial Guest Presenter: Israel Popoca\, Subdirector and acting Director\, Bay of Loreto National Park\nSpecial Guest: Mariana Salgado\, conservation biologist\, Bay of Loreto National Park\n\nSaturday\, March 24\n\nAzul Intangible\, in Spanish\, with English subtitles (67 minutes)\nINTERMISSION (15 minutes)\nMar Vivo/A Reef Reborn\, in Spanish (24 minutes)\nSpecial Guest Presenter\, Eréndira Valle\, director of Azul IntangibleIntangible\nSpecial Guest Presenter\, Judith Castro\, Cabo Pulmo conservationist\n\n  \nSave \nSave \nSave
URL:https://espanol.ecoalianzaloreto.org/evento/one-ocean-film-festival/
LOCATION:B.C.S
CATEGORIES:Eventos
ATTACH;FMTTYPE=image/jpeg:https://espanol.ecoalianzaloreto.org/wp-content/uploads/2018/03/oceanfilmfestival-march2018-2.jpg
END:VEVENT
END:VCALENDAR